BEGIN:VCALENDAR
VERSION:2.0
PRODID:-//Sonalife - ECPv6.8.1//NONSGML v1.0//EN
CALSCALE:GREGORIAN
METHOD:PUBLISH
X-ORIGINAL-URL:https://sonalife.ie
X-WR-CALDESC:Events for Sonalife
REFRESH-INTERVAL;VALUE=DURATION:PT1H
X-Robots-Tag:noindex
X-PUBLISHED-TTL:PT1H
BEGIN:VTIMEZONE
TZID:UTC
BEGIN:STANDARD
TZOFFSETFROM:+0000
TZOFFSETTO:+0000
TZNAME:UTC
DTSTART:20250101T000000
END:STANDARD
END:VTIMEZONE
BEGIN:VEVENT
DTSTART;TZID=UTC:20260312T120000
DTEND;TZID=UTC:20260312T140000
DTSTAMP:20260422T155758
CREATED:20260302T171201Z
LAST-MODIFIED:20260304T152748Z
UID:10000207-1773316800-1773324000@sonalife.ie
SUMMARY:Waterside Innovation Campus St. Patrick's Day Celebration
DESCRIPTION:Waterside Innovation CampusSt. Patrick’s Day Celebration \nFine Grain Property is delighted to announce their St. Patrick’s Day Celebration\, taking place in the\nlandscaped gardens between building 4 & 5 Waterside\non Thursday\, 12th March\, from 12:00 to 2:00 PM. \nJoin us for an afternoon with: \nComplementary Irish Baked Potato with a Choice of Filling\n(BBQ Chicken\, Guinness Pulled Beef\, Cheddar & Pancetta\, Cheesy Beans\, Veggie Spud)\nIrish Traditional Music\nIrish Traditional Dancing \nHow to Register:\nPlease select your ticket for the event\, then click the “Get Tickets” button to secure your spot. \nRegistration closes on Wednesday\, 11th March at 3:00 PM.Tickets are limited\, and individual registration is essential. \nT & C’s Apply:  \n– You must work at Waterside Innovation Campus to attend / avail of Waterside Innovation Campus community program events & activities.\n– Photographs and video recordings will be taken during this event for promotional and/or marketing purposes.\nIf you have any concerns about being photographed or filmed\, please don’t hesitate to reach out to our event staff (arturo@sonalife.ie)\n– Registration is essential to claim your food and drink\, limited spaces apply.
URL:https://sonalife.ie/event/watersidestpatricksdaycelebration/
LOCATION:Westpark Innovation Campus
CATEGORIES:Community
ATTACH;FMTTYPE=image/jpeg:https://sonalife.ie/wp-content/uploads/2026/03/amolsspecialtyinc-seotool-25981-thebeststpatricks-image1.jpg
ORGANIZER;CN="Arturo Aquiahuatl":MAILTO:arturo@sonalife.ie
END:VEVENT
BEGIN:VEVENT
DTSTART;TZID=UTC:20251212T070000
DTEND;TZID=UTC:20251212T203000
DTSTAMP:20260422T155758
CREATED:20251205T163012Z
LAST-MODIFIED:20251205T163836Z
UID:10000202-1765522800-1765571400@sonalife.ie
SUMMARY:Westpark Innovation Campus Christmas Drive-in Cinema
DESCRIPTION:Westpark Innovation Campus\nChristmas Drive-in Cinema\nGet cozy and join us for a festive evening under the stars as we screen the holiday classic The Polar Express!\nEnjoy the magic of a drive-in experience with your loved ones.\nWe will provide each car with a family sized goodie bag to include popcorn\, drinks\, snacks and sweet treats! \n📅 Date: Friday\, 12th December\n📍 Location: Green Carpark Building 3000\nWestpark Innovation Campus\n🎥 Screening Time:\n7:00 pm (arrive from 6.15pm) \nReservations are per car\, not per person!\nSo load up your vehicle with friends or family and get ready for some holiday cheer. \nReserve your car ticket for the screening time of your choice and make this holiday season unforgettable! \nT & C’s Apply:  \n– You must work at Westpark Innovation Campus to attend the Westpark Innovation Campus community program events & activities.\n– Photographs and video recordings may be taken during this event for promotional and/or marketing purposes.\nIf you have any concerns about being photographed or filmed\, please don’t hesitate to reach out to our event staff (arturo@sonalife.ie)\n– Registration is essential to claim your ticket and goodie bag\, limited spaces apply.
URL:https://sonalife.ie/event/westpar-christmas-cinema-12th/
LOCATION:Westpark Innovation Campus
CATEGORIES:Community
ATTACH;FMTTYPE=image/png:https://sonalife.ie/wp-content/uploads/2025/11/Outdoor-Cinema-Day-1.png
ORGANIZER;CN="Arturo Aquiahuatl":MAILTO:arturo@sonalife.ie
END:VEVENT
END:VCALENDAR