BEGIN:VCALENDAR
VERSION:2.0
PRODID:-//Sonalife - ECPv6.8.1//NONSGML v1.0//EN
CALSCALE:GREGORIAN
METHOD:PUBLISH
X-WR-CALNAME:Sonalife
X-ORIGINAL-URL:https://sonalife.ie
X-WR-CALDESC:Events for Sonalife
REFRESH-INTERVAL;VALUE=DURATION:PT1H
X-Robots-Tag:noindex
X-PUBLISHED-TTL:PT1H
BEGIN:VTIMEZONE
TZID:UTC
BEGIN:STANDARD
TZOFFSETFROM:+0000
TZOFFSETTO:+0000
TZNAME:UTC
DTSTART:20260101T000000
END:STANDARD
END:VTIMEZONE
BEGIN:VEVENT
DTSTART;TZID=UTC:20260626T190000
DTEND;TZID=UTC:20260626T210000
DTSTAMP:20260421T083108
CREATED:20260415T152209Z
LAST-MODIFIED:20260415T152209Z
UID:10000219-1782500400-1782507600@sonalife.ie
SUMMARY:Eglinton Place Summer Party 2026
DESCRIPTION:Eglinton Place Summer Party\nWe are delighted to invite you to our Summer Party celebration at Eglinton Place!\nOn Friday\, 26th June\, from 7pm to 9pm\, join us for Food\, Drinks and Live Music in the Upstairs Amenity space to celebrate Summer with your Eglinton Place community \nOur community members will enjoy the following on the day of the event: \n– Live Music Performance\n– A Selection of Alcoholic and Non Alcoholic drinks\n– A Persian Inspired Buffet Dinner \nMark your calendars and secure your tickets for a great event! \nThis is a Eglinton Place Residents Only Event \nHow to Register: \nSelect the quantity of tickets you need\, then click the ” Get tickets”  button to secure your tickets. \nRegistration closes on the 24th of June @ 12.00 am. \nLimited Spaces apply. Individual Registration is essential. \nT & C’s Apply:  \n– You must Live at Eglinton Place to attend / avail of Eglinton Place community program events & activities.\n– ID required. Alcohol will only be served to adults 18 years and over.\n– An adult must accompany all children under the age of 18.\n– Photographs and video recordings may be taken during this event for promotional and/or marketing purposes.\nIf you have any concerns about being photographed or filmed\, please don’t hesitate to reach out to our event staff (mary-aoife@sonalife.ie)\n– Registration is essential to claim your food and drink\, limited spaces apply. \n 
URL:https://sonalife.ie/event/eglinton-place-summer-party-2026/
LOCATION:Eglinton Place\, Eglinton Rd\, Donnybrook\, Dublin
ATTACH;FMTTYPE=image/jpeg:https://sonalife.ie/wp-content/uploads/2026/04/Party-Friends-Clayton-scaled.jpg
ORGANIZER;CN="Mary-Aoife Ong":MAILTO:mary-aoife@sonalife.ie
END:VEVENT
BEGIN:VEVENT
DTSTART;TZID=UTC:20260731T183000
DTEND;TZID=UTC:20260731T210000
DTSTAMP:20260421T083108
CREATED:20260415T164019Z
LAST-MODIFIED:20260415T165538Z
UID:10000220-1785522600-1785531600@sonalife.ie
SUMMARY:One Lime Street Summer Party 2026
DESCRIPTION:One Lime Street Summer Party Celebrations\nWe are delighted to invite you to the Summer Party celebration at One Lime Street!\nOn Friday 31st July from 6.30pm to 9pm join us for Dinner\, Drinks\, Entertainment and Live Music to celebrate Summer with your One Lime Street community in the Amenity space. \n  \nOur community members will enjoy the following on the day of the event: \n– Live Music –\n– A Persian inspired Buffet Dinner –\n– A Selection of Alcoholic and Non Alcoholic Drinks –\n– Caricature Artist – \n  \nMark your calendars and secure your tickets for a great event! \nThis is a One Lime Street Residents Only Event \nHow to Register: \nSelect the quantity of tickets you need\, then click the ” Get tickets”  button to secure your tickets. \nRegistration closes on the 29th of July @ 12.00 am. \nLimited Spaces apply. Individual Registration is essential. \nT & C’s Apply:  \n– You must Live at One Lime Street to attend / avail of One Lime Street’s community program events & activities.\n– ID required. Alcohol will only be served to adults 18 years and over.\n– An adult must accompany all children under the age of 18.\n– Photographs and video recordings may be taken during this event for promotional and/or marketing purposes.\nIf you have any concerns about being photographed or filmed\, please don’t hesitate to reach out to our event staff (mary-aoife@sonalife.ie)\n– Registration is essential to claim your food and drink\, limited spaces apply. \n 
URL:https://sonalife.ie/event/one-lime-street-summer-party-2026/
LOCATION:One Lime Street\, Amenity Space
ATTACH;FMTTYPE=image/jpeg:https://sonalife.ie/wp-content/uploads/2026/04/Party-Friends-Clayton-scaled.jpg
ORGANIZER;CN="Mary-Aoife Ong":MAILTO:mary-aoife@sonalife.ie
END:VEVENT
END:VCALENDAR