BEGIN:VCALENDAR
VERSION:2.0
PRODID:-//Sonalife - ECPv6.8.1//NONSGML v1.0//EN
CALSCALE:GREGORIAN
METHOD:PUBLISH
X-WR-CALNAME:Sonalife
X-ORIGINAL-URL:https://sonalife.ie
X-WR-CALDESC:Events for Sonalife
REFRESH-INTERVAL;VALUE=DURATION:PT1H
X-Robots-Tag:noindex
X-PUBLISHED-TTL:PT1H
BEGIN:VTIMEZONE
TZID:UTC
BEGIN:STANDARD
TZOFFSETFROM:+0000
TZOFFSETTO:+0000
TZNAME:UTC
DTSTART:20210101T000000
END:STANDARD
END:VTIMEZONE
BEGIN:VEVENT
DTSTART;TZID=UTC:20210401T161500
DTEND;TZID=UTC:20210401T170000
DTSTAMP:20260421T151419
CREATED:20210318T091120Z
LAST-MODIFIED:20210401T133611Z
UID:10000102-1617293700-1617296400@sonalife.ie
SUMMARY:Free Virtual Arts & Crafts Class\, Make an Easter Basket 
DESCRIPTION:From paper and card\, with a dash of imagination and colour thrown in\, we will create our own personalised Easter baskets that you can fill with chocolate or paper bunnies galore. \nJoin us on Thursday\, the 1st of April\, to create an Easter basket. This class is suitable for young children with the help of an adult or an older child. \nMaterials Required:  \n\n1 large cereal box\n2 pegs\n1 A4 sheet coloured or decorative paper for the handle or wrapping paper\n2 A4 sheets coloured paper to cover your basket (yellow paper is used in the example image) extra coloured/decorative paper to add decorations\, various colours\nPVA glue (if you are using a glue stick\, you will need to use a stapler for two parts of the project)\nScissors\n30cm ruler\nPencil\nMarkers for colouring\n\n  \n\nRegister your children to attend the free virtual classes below. You will receive a separate email to the ticket email. Outlining all the information you will need to join the session. \n  \nAny questions\, please contact Sonalife Limited by emailing RSVP@sonalife.ie. \nT&C’s: This event may be recorded or used for promotional and or marketing purposes\, so by registering for the event\, you provide consent to the use of your image thereof.  Alternatively\, you can choose to turn your camera off.
URL:https://sonalife.ie/event/free-virtual-arts-crafts-class-make-an-easter-basket/
LOCATION:Virtual
CATEGORIES:Children
ATTACH;FMTTYPE=image/jpeg:https://sonalife.ie/wp-content/uploads/2021/03/easter-baskets-from-the-craft-corner-1-1.jpg
ORGANIZER;CN="Hazel Elders":MAILTO:hazel@sonalife.ie
END:VEVENT
END:VCALENDAR